BEGIN:VCALENDAR
VERSION:2.0
PRODID:-//77.37.50.225//NONSGML kigkonsult.se iCalcreator 2.20//
CALSCALE:GREGORIAN
METHOD:PUBLISH
X-WR-TIMEZONE:UTC
BEGIN:VEVENT
UID:event148@La Mennais Aguilar de Campoo
DTSTAMP:20260422T144223Z
CATEGORIES:Escolar
DESCRIPTION:BECAS MEC 26/27 - CONVOCATORIA ABIERTA\nCategoría: Escolar\nEnl
 ace: https://aguilardecampoo.lamennais.es/index.php?option=com_jem&view=ev
 ent&id=148:becas-mec-26-27-convocatoria-abierta\n
DTSTART:20260407T080000Z
DTEND:20260518T160000Z
SUMMARY:BECAS MEC 26/27 - CONVOCATORIA ABIERTA
URL:https://aguilardecampoo.lamennais.es/index.php?option=com_jem&view=even
 t&id=148:becas-mec-26-27-convocatoria-abierta
END:VEVENT
END:VCALENDAR