BEGIN:VCALENDAR
VERSION:2.0
PRODID:-//88.222.222.248//NONSGML kigkonsult.se iCalcreator 2.20//
CALSCALE:GREGORIAN
METHOD:PUBLISH
X-WR-TIMEZONE:UTC
BEGIN:VEVENT
UID:event147@La Mennais Aguilar de Campoo
DTSTAMP:20260420T132742Z
CATEGORIES:Festivo
DESCRIPTION:DÍA NO LECTIVO - PUENTE DÍA DE CASTILLA y LEÓN\nCategoría: Fest
 ivo\nEnlace: https://aguilardecampoo.lamennais.es/index.php?option=com_jem
 &view=event&id=147:dia-no-lectivo-puente-dia-de-castilla-y-leon\n
DTSTART:20260424T000100Z
DTEND:20260424T235900Z
SUMMARY:DÍA NO LECTIVO - PUENTE DÍA DE CASTILLA y LEÓN
URL:https://aguilardecampoo.lamennais.es/index.php?option=com_jem&view=even
 t&id=147:dia-no-lectivo-puente-dia-de-castilla-y-leon
END:VEVENT
END:VCALENDAR