BEGIN:VCALENDAR
VERSION:2.0
PRODID:-//88.222.222.252//NONSGML kigkonsult.se iCalcreator 2.20//
CALSCALE:GREGORIAN
METHOD:PUBLISH
X-WR-TIMEZONE:UTC
BEGIN:VEVENT
UID:event146@La Mennais Aguilar de Campoo
DTSTAMP:20260422T100342Z
CATEGORIES:Festivo
DESCRIPTION:FESTIVO - DÍA DE CASTILLA y LEÓN\nCategoría: Festivo\nEnlace: h
 ttps://aguilardecampoo.lamennais.es/index.php?option=com_jem&view=event&id
 =146:festivo-dia-de-castilla-y-leon\n
DTSTART:20260423T000100Z
DTEND:20260423T235900Z
SUMMARY:FESTIVO - DÍA DE CASTILLA y LEÓN
URL:https://aguilardecampoo.lamennais.es/index.php?option=com_jem&view=even
 t&id=146:festivo-dia-de-castilla-y-leon
END:VEVENT
END:VCALENDAR